BEGIN:VCALENDAR
VERSION:2.0
PRODID:-//Municipality of East Hants - ECPv6.15.20//NONSGML v1.0//EN
CALSCALE:GREGORIAN
METHOD:PUBLISH
X-WR-CALNAME:Municipality of East Hants
X-ORIGINAL-URL:https://www.easthants.ca
X-WR-CALDESC:Events for Municipality of East Hants
REFRESH-INTERVAL;VALUE=DURATION:PT1H
X-Robots-Tag:noindex
X-PUBLISHED-TTL:PT1H
BEGIN:VTIMEZONE
TZID:America/Halifax
BEGIN:DAYLIGHT
TZOFFSETFROM:-0400
TZOFFSETTO:-0300
TZNAME:ADT
DTSTART:20250309T060000
END:DAYLIGHT
BEGIN:STANDARD
TZOFFSETFROM:-0300
TZOFFSETTO:-0400
TZNAME:AST
DTSTART:20251102T050000
END:STANDARD
BEGIN:DAYLIGHT
TZOFFSETFROM:-0400
TZOFFSETTO:-0300
TZNAME:ADT
DTSTART:20260308T060000
END:DAYLIGHT
BEGIN:STANDARD
TZOFFSETFROM:-0300
TZOFFSETTO:-0400
TZNAME:AST
DTSTART:20261101T050000
END:STANDARD
BEGIN:DAYLIGHT
TZOFFSETFROM:-0400
TZOFFSETTO:-0300
TZNAME:ADT
DTSTART:20270314T060000
END:DAYLIGHT
BEGIN:STANDARD
TZOFFSETFROM:-0300
TZOFFSETTO:-0400
TZNAME:AST
DTSTART:20271107T050000
END:STANDARD
END:VTIMEZONE
BEGIN:VEVENT
DTSTART;VALUE=DATE:20260507
DTEND;VALUE=DATE:20260522
DTSTAMP:20260420T054813
CREATED:20260305T150201Z
LAST-MODIFIED:20260305T205219Z
UID:10000723-1778112000-1779407999@www.easthants.ca
SUMMARY:Annual Compost Giveaway
DESCRIPTION:The annual compost giveaway event is open to all residents within East Hants boundaries. We’ll provide the bags\, you bring your shovel! \nResidents can visit the Waste Management Centre for compost throughout the week or on Saturdays from May 7 – May 21. Time’s vary depending on the days. \nWeekdays: 9 a.m. – 3 p.m.\nSaturdays: 9 a.m. – 12 p.m. \n\nLimit of 4 bags per household of self-shoveled Grade A compost.*\nYou can pick up compost for one (1) other household. If you are picking up for another household\, the limit is 8 bags of compost per visit\nBags can hold approximately 25kg each. Bags and compost provided\nYou must fill your own bags and place them in your vehicle\n\nWhat is Grade A compost? \n\nThere are two (2) grades of compost: Unrestricted (Grade A) and Restricted (Grade B)\nGrade A compost can be used in any application from agricultural lands\, residential gardens\, horticultural operations\, etc.\nGrade B compost is a restricted use product due to higher trace element content and presence of foreign matter\nTest results are available on request
URL:https://www.easthants.ca/event/annual-compost-giveaway-3/
LOCATION:Waste Management Centre\, 1306 Georgefield Road\, Upper Kennetcook\, Nova Scotia\, B0N 2L0\, Canada
CATEGORIES:Community Event,Solid Waste Event
END:VEVENT
END:VCALENDAR