BEGIN:VCALENDAR
VERSION:2.0
PRODID:-//Municipality of East Hants - ECPv6.15.20//NONSGML v1.0//EN
CALSCALE:GREGORIAN
METHOD:PUBLISH
X-WR-CALNAME:Municipality of East Hants
X-ORIGINAL-URL:https://www.easthants.ca
X-WR-CALDESC:Events for Municipality of East Hants
REFRESH-INTERVAL;VALUE=DURATION:PT1H
X-Robots-Tag:noindex
X-PUBLISHED-TTL:PT1H
BEGIN:VTIMEZONE
TZID:America/Halifax
BEGIN:DAYLIGHT
TZOFFSETFROM:-0400
TZOFFSETTO:-0300
TZNAME:ADT
DTSTART:20250309T060000
END:DAYLIGHT
BEGIN:STANDARD
TZOFFSETFROM:-0300
TZOFFSETTO:-0400
TZNAME:AST
DTSTART:20251102T050000
END:STANDARD
BEGIN:DAYLIGHT
TZOFFSETFROM:-0400
TZOFFSETTO:-0300
TZNAME:ADT
DTSTART:20260308T060000
END:DAYLIGHT
BEGIN:STANDARD
TZOFFSETFROM:-0300
TZOFFSETTO:-0400
TZNAME:AST
DTSTART:20261101T050000
END:STANDARD
BEGIN:DAYLIGHT
TZOFFSETFROM:-0400
TZOFFSETTO:-0300
TZNAME:ADT
DTSTART:20270314T060000
END:DAYLIGHT
BEGIN:STANDARD
TZOFFSETFROM:-0300
TZOFFSETTO:-0400
TZNAME:AST
DTSTART:20271107T050000
END:STANDARD
END:VTIMEZONE
BEGIN:VEVENT
DTSTART;TZID=America/Halifax:20260102T193000
DTEND;TZID=America/Halifax:20260102T220000
DTSTAMP:20260421T092627
CREATED:20251014T163916Z
LAST-MODIFIED:20251014T150239Z
UID:10000573-1767382200-1767391200@www.easthants.ca
SUMMARY:Senior A - East Hants Penguins host Bulldogs
DESCRIPTION:
URL:https://www.easthants.ca/event/senior-a-east-hants-penguins-host-bulldogs/
LOCATION:East Hants Sportsplex\, Keith Miller Arena\, 1076 Highway 2\, Lantz\, Nova Scotia\, B2S 1M8\, Canada
CATEGORIES:Sportsplex
END:VEVENT
BEGIN:VEVENT
DTSTART;TZID=America/Halifax:20260103T170000
DTEND;TZID=America/Halifax:20260103T193000
DTSTAMP:20260421T092627
CREATED:20251014T134159Z
LAST-MODIFIED:20251014T133721Z
UID:10000546-1767459600-1767468600@www.easthants.ca
SUMMARY:Jr.C - East Hants Ryson Construction Penguins host Newport Titans
DESCRIPTION:
URL:https://www.easthants.ca/event/jr-c-east-hants-ryson-construction-penguins-host-newport-titans/
LOCATION:East Hants Sportsplex\, Keith Miller Arena\, 1076 Highway 2\, Lantz\, Nova Scotia\, B2S 1M8\, Canada
CATEGORIES:Sportsplex
END:VEVENT
BEGIN:VEVENT
DTSTART;TZID=America/Halifax:20260103T193000
DTEND;TZID=America/Halifax:20260103T213000
DTSTAMP:20260421T092627
CREATED:20251014T134459Z
LAST-MODIFIED:20251014T134349Z
UID:10000551-1767468600-1767475800@www.easthants.ca
SUMMARY:HERH Tigers host Dr. J.H. Gillis Royals (Boys Division)
DESCRIPTION:
URL:https://www.easthants.ca/event/herh-tigers-host-dr-j-h-gillis-royals-boys-division/
LOCATION:East Hants Sportsplex\, Keith Miller Arena\, 1076 Highway 2\, Lantz\, Nova Scotia\, B2S 1M8\, Canada
CATEGORIES:Sportsplex
END:VEVENT
BEGIN:VEVENT
DTSTART;TZID=America/Halifax:20260104T160000
DTEND;TZID=America/Halifax:20260104T180000
DTSTAMP:20260421T092627
CREATED:20251014T134517Z
LAST-MODIFIED:20251014T134436Z
UID:10000552-1767542400-1767549600@www.easthants.ca
SUMMARY:HERH Tigers host Northumberland Nighthawks (Boys Division)
DESCRIPTION:
URL:https://www.easthants.ca/event/herh-tigers-host-northumberland-nighthawks-boys-division/
LOCATION:East Hants Sportsplex\, Keith Miller Arena\, 1076 Highway 2\, Lantz\, Nova Scotia\, B2S 1M8\, Canada
CATEGORIES:Sportsplex
END:VEVENT
BEGIN:VEVENT
DTSTART;TZID=America/Halifax:20260106T153000
DTEND;TZID=America/Halifax:20260106T170000
DTSTAMP:20260421T092627
CREATED:20251014T145357Z
LAST-MODIFIED:20251014T145342Z
UID:10000561-1767713400-1767718800@www.easthants.ca
SUMMARY:HERH Tigers host Northumberland Nighthawks (Girls Division)
DESCRIPTION:
URL:https://www.easthants.ca/event/herh-tigers-host-northumberland-nighthawks-girls-division/
LOCATION:East Hants Sportsplex\, Keith Miller Arena\, 1076 Highway 2\, Lantz\, Nova Scotia\, B2S 1M8\, Canada
CATEGORIES:Sportsplex
END:VEVENT
BEGIN:VEVENT
DTSTART;TZID=America/Halifax:20260109T193000
DTEND;TZID=America/Halifax:20260109T220000
DTSTAMP:20260421T092627
CREATED:20251014T133914Z
LAST-MODIFIED:20251014T133257Z
UID:10000540-1767987000-1767996000@www.easthants.ca
SUMMARY:Jr.B - East Hants Penguins host Brookfield Elks
DESCRIPTION:
URL:https://www.easthants.ca/event/jr-b-east-hants-penguins-host-brookfield-elks/
LOCATION:East Hants Sportsplex\, Keith Miller Arena\, 1076 Highway 2\, Lantz\, Nova Scotia\, B2S 1M8\, Canada
CATEGORIES:Sportsplex
END:VEVENT
BEGIN:VEVENT
DTSTART;TZID=America/Halifax:20260117T170000
DTEND;TZID=America/Halifax:20260117T193000
DTSTAMP:20260421T092627
CREATED:20251014T134243Z
LAST-MODIFIED:20251014T133758Z
UID:10000547-1768669200-1768678200@www.easthants.ca
SUMMARY:Jr.C - East Hants Ryson Construction Penguins host Sackville Knights
DESCRIPTION:
URL:https://www.easthants.ca/event/jr-c-east-hants-ryson-construction-penguins-host-sackville-knights/
LOCATION:East Hants Sportsplex\, Keith Miller Arena\, 1076 Highway 2\, Lantz\, Nova Scotia\, B2S 1M8\, Canada
CATEGORIES:Sportsplex
END:VEVENT
BEGIN:VEVENT
DTSTART;TZID=America/Halifax:20260117T200000
DTEND;TZID=America/Halifax:20260117T223000
DTSTAMP:20260421T092627
CREATED:20251014T164028Z
LAST-MODIFIED:20251014T150317Z
UID:10000574-1768680000-1768689000@www.easthants.ca
SUMMARY:Senior A - East Hants Penguins host Shoreline Pipers
DESCRIPTION:
URL:https://www.easthants.ca/event/senior-a-east-hants-penguins-host-shoreline-pipers/
LOCATION:East Hants Sportsplex\, Keith Miller Arena\, 1076 Highway 2\, Lantz\, Nova Scotia\, B2S 1M8\, Canada
CATEGORIES:Sportsplex
END:VEVENT
BEGIN:VEVENT
DTSTART;TZID=America/Halifax:20260123T193000
DTEND;TZID=America/Halifax:20260123T220000
DTSTAMP:20260421T092627
CREATED:20251014T163944Z
LAST-MODIFIED:20251014T150354Z
UID:10000575-1769196600-1769205600@www.easthants.ca
SUMMARY:Senior A - East Hants Penguins host Mosaik Bearcats
DESCRIPTION:
URL:https://www.easthants.ca/event/senior-a-east-hants-penguins-host-mosaik-bearcats/
LOCATION:East Hants Sportsplex\, Keith Miller Arena\, 1076 Highway 2\, Lantz\, Nova Scotia\, B2S 1M8\, Canada
CATEGORIES:Sportsplex
END:VEVENT
BEGIN:VEVENT
DTSTART;TZID=America/Halifax:20260124T193000
DTEND;TZID=America/Halifax:20260124T213000
DTSTAMP:20260421T092627
CREATED:20251014T134656Z
LAST-MODIFIED:20251014T134543Z
UID:10000554-1769283000-1769290200@www.easthants.ca
SUMMARY:HERH Tigers host CEC Cougars (Boys Division)
DESCRIPTION:
URL:https://www.easthants.ca/event/herh-tigers-host-cec-cougars-boys-division/
LOCATION:East Hants Sportsplex\, Keith Miller Arena\, 1076 Highway 2\, Lantz\, Nova Scotia\, B2S 1M8\, Canada
CATEGORIES:Sportsplex
END:VEVENT
BEGIN:VEVENT
DTSTART;TZID=America/Halifax:20260131T193000
DTEND;TZID=America/Halifax:20260131T220000
DTSTAMP:20260421T092627
CREATED:20251014T163956Z
LAST-MODIFIED:20251014T150422Z
UID:10000576-1769887800-1769896800@www.easthants.ca
SUMMARY:Senior A - East Hants Penguins host Shoreline Pipers
DESCRIPTION:
URL:https://www.easthants.ca/event/senior-a-east-hants-penguins-host-shoreline-pipers/
LOCATION:East Hants Sportsplex\, Keith Miller Arena\, 1076 Highway 2\, Lantz\, Nova Scotia\, B2S 1M8\, Canada
CATEGORIES:Sportsplex
END:VEVENT
END:VCALENDAR