BEGIN:VCALENDAR
VERSION:2.0
PRODID:-//Municipality of East Hants - ECPv6.15.20//NONSGML v1.0//EN
CALSCALE:GREGORIAN
METHOD:PUBLISH
X-WR-CALNAME:Municipality of East Hants
X-ORIGINAL-URL:https://www.easthants.ca
X-WR-CALDESC:Events for Municipality of East Hants
REFRESH-INTERVAL;VALUE=DURATION:PT1H
X-Robots-Tag:noindex
X-PUBLISHED-TTL:PT1H
BEGIN:VTIMEZONE
TZID:America/Halifax
BEGIN:DAYLIGHT
TZOFFSETFROM:-0400
TZOFFSETTO:-0300
TZNAME:ADT
DTSTART:20240310T060000
END:DAYLIGHT
BEGIN:STANDARD
TZOFFSETFROM:-0300
TZOFFSETTO:-0400
TZNAME:AST
DTSTART:20241103T050000
END:STANDARD
BEGIN:DAYLIGHT
TZOFFSETFROM:-0400
TZOFFSETTO:-0300
TZNAME:ADT
DTSTART:20250309T060000
END:DAYLIGHT
BEGIN:STANDARD
TZOFFSETFROM:-0300
TZOFFSETTO:-0400
TZNAME:AST
DTSTART:20251102T050000
END:STANDARD
BEGIN:DAYLIGHT
TZOFFSETFROM:-0400
TZOFFSETTO:-0300
TZNAME:ADT
DTSTART:20260308T060000
END:DAYLIGHT
BEGIN:STANDARD
TZOFFSETFROM:-0300
TZOFFSETTO:-0400
TZNAME:AST
DTSTART:20261101T050000
END:STANDARD
END:VTIMEZONE
BEGIN:VEVENT
DTSTART;TZID=America/Halifax:20250508T090000
DTEND;TZID=America/Halifax:20250508T150000
DTSTAMP:20260421T232650
CREATED:20250501T173447Z
LAST-MODIFIED:20250501T173601Z
UID:10000467-1746694800-1746716400@www.easthants.ca
SUMMARY:Annual Compost Giveaway
DESCRIPTION:The annual compost giveaway event is open to all residents within East Hants boundaries. It runs from May 8 – 22\, 2025 or until material is gone. Please note\, this event has special hours.  \nMonday – Friday \n\n9 a.m. – 3 p.m.\n\nSaturday \n\n9 a.m. – Noon\n\nThings to know \n\nLimit of four (4) bags per household of self-shoveled Grade A compost.*\nYou can pick up compost for one (1) other household as long as you have their registration form. If you are picking up for another household\, the limit is 8 bags of compost per visit.\nBags can hold approximately 25kg each. Bags and compost are provided. You must fill your own bags and place them in your vehicle.\nPlease be aware that staff are unable to assist in loading bags into vehicles.\n\nWhat should I bring?\n \n\nBring your own shovel (none will be provided).\nWe recommend wearing quality gloves and boots/outdoor shoes.\nPlease fill out the form before your visit and present it to staff when you arrive.\n\nCommunity groups \n\nAll community groups and not-for-profits within East Hants boundaries are welcome to collect compost after May 22\, if there is material left over.\nA registration form must be filled out before arriving.\nGroups are responsible for filling bags/containers and loading their own vehicles.
URL:https://www.easthants.ca/event/annual-compost-giveaway-2/2025-05-08/
LOCATION:Waste Management Centre\, 1306 Georgefield Road\, Upper Kennetcook\, Nova Scotia\, B0N 2L0\, Canada
CATEGORIES:Solid Waste Event
END:VEVENT
BEGIN:VEVENT
DTSTART;TZID=America/Halifax:20250509T090000
DTEND;TZID=America/Halifax:20250509T150000
DTSTAMP:20260421T232650
CREATED:20250501T173447Z
LAST-MODIFIED:20250501T173601Z
UID:10000468-1746781200-1746802800@www.easthants.ca
SUMMARY:Annual Compost Giveaway
DESCRIPTION:The annual compost giveaway event is open to all residents within East Hants boundaries. It runs from May 8 – 22\, 2025 or until material is gone. Please note\, this event has special hours.  \nMonday – Friday \n\n9 a.m. – 3 p.m.\n\nSaturday \n\n9 a.m. – Noon\n\nThings to know \n\nLimit of four (4) bags per household of self-shoveled Grade A compost.*\nYou can pick up compost for one (1) other household as long as you have their registration form. If you are picking up for another household\, the limit is 8 bags of compost per visit.\nBags can hold approximately 25kg each. Bags and compost are provided. You must fill your own bags and place them in your vehicle.\nPlease be aware that staff are unable to assist in loading bags into vehicles.\n\nWhat should I bring?\n \n\nBring your own shovel (none will be provided).\nWe recommend wearing quality gloves and boots/outdoor shoes.\nPlease fill out the form before your visit and present it to staff when you arrive.\n\nCommunity groups \n\nAll community groups and not-for-profits within East Hants boundaries are welcome to collect compost after May 22\, if there is material left over.\nA registration form must be filled out before arriving.\nGroups are responsible for filling bags/containers and loading their own vehicles.
URL:https://www.easthants.ca/event/annual-compost-giveaway-2/2025-05-09/
LOCATION:Waste Management Centre\, 1306 Georgefield Road\, Upper Kennetcook\, Nova Scotia\, B0N 2L0\, Canada
CATEGORIES:Solid Waste Event
END:VEVENT
BEGIN:VEVENT
DTSTART;TZID=America/Halifax:20250510T090000
DTEND;TZID=America/Halifax:20250510T120000
DTSTAMP:20260421T232650
CREATED:20250501T173447Z
LAST-MODIFIED:20250501T173601Z
UID:10000469-1746867600-1746878400@www.easthants.ca
SUMMARY:Annual Compost Giveaway
DESCRIPTION:The annual compost giveaway event is open to all residents within East Hants boundaries. It runs from May 8 – 22\, 2025 or until material is gone. Please note\, this event has special hours.  \nMonday – Friday \n\n9 a.m. – 3 p.m.\n\nSaturday \n\n9 a.m. – Noon\n\nThings to know \n\nLimit of four (4) bags per household of self-shoveled Grade A compost.*\nYou can pick up compost for one (1) other household as long as you have their registration form. If you are picking up for another household\, the limit is 8 bags of compost per visit.\nBags can hold approximately 25kg each. Bags and compost are provided. You must fill your own bags and place them in your vehicle.\nPlease be aware that staff are unable to assist in loading bags into vehicles.\n\nWhat should I bring?\n \n\nBring your own shovel (none will be provided).\nWe recommend wearing quality gloves and boots/outdoor shoes.\nPlease fill out the form before your visit and present it to staff when you arrive.\n\nCommunity groups \n\nAll community groups and not-for-profits within East Hants boundaries are welcome to collect compost after May 22\, if there is material left over.\nA registration form must be filled out before arriving.\nGroups are responsible for filling bags/containers and loading their own vehicles.
URL:https://www.easthants.ca/event/annual-compost-giveaway-2/2025-05-10/
LOCATION:Waste Management Centre\, 1306 Georgefield Road\, Upper Kennetcook\, Nova Scotia\, B0N 2L0\, Canada
CATEGORIES:Solid Waste Event
END:VEVENT
BEGIN:VEVENT
DTSTART;TZID=America/Halifax:20250512T090000
DTEND;TZID=America/Halifax:20250512T150000
DTSTAMP:20260421T232650
CREATED:20250501T173447Z
LAST-MODIFIED:20250501T173601Z
UID:10000470-1747040400-1747062000@www.easthants.ca
SUMMARY:Annual Compost Giveaway
DESCRIPTION:The annual compost giveaway event is open to all residents within East Hants boundaries. It runs from May 8 – 22\, 2025 or until material is gone. Please note\, this event has special hours.  \nMonday – Friday \n\n9 a.m. – 3 p.m.\n\nSaturday \n\n9 a.m. – Noon\n\nThings to know \n\nLimit of four (4) bags per household of self-shoveled Grade A compost.*\nYou can pick up compost for one (1) other household as long as you have their registration form. If you are picking up for another household\, the limit is 8 bags of compost per visit.\nBags can hold approximately 25kg each. Bags and compost are provided. You must fill your own bags and place them in your vehicle.\nPlease be aware that staff are unable to assist in loading bags into vehicles.\n\nWhat should I bring?\n \n\nBring your own shovel (none will be provided).\nWe recommend wearing quality gloves and boots/outdoor shoes.\nPlease fill out the form before your visit and present it to staff when you arrive.\n\nCommunity groups \n\nAll community groups and not-for-profits within East Hants boundaries are welcome to collect compost after May 22\, if there is material left over.\nA registration form must be filled out before arriving.\nGroups are responsible for filling bags/containers and loading their own vehicles.
URL:https://www.easthants.ca/event/annual-compost-giveaway-2/2025-05-12/
LOCATION:Waste Management Centre\, 1306 Georgefield Road\, Upper Kennetcook\, Nova Scotia\, B0N 2L0\, Canada
CATEGORIES:Solid Waste Event
END:VEVENT
BEGIN:VEVENT
DTSTART;TZID=America/Halifax:20250513T090000
DTEND;TZID=America/Halifax:20250513T150000
DTSTAMP:20260421T232650
CREATED:20250501T173447Z
LAST-MODIFIED:20250501T173601Z
UID:10000471-1747126800-1747148400@www.easthants.ca
SUMMARY:Annual Compost Giveaway
DESCRIPTION:The annual compost giveaway event is open to all residents within East Hants boundaries. It runs from May 8 – 22\, 2025 or until material is gone. Please note\, this event has special hours.  \nMonday – Friday \n\n9 a.m. – 3 p.m.\n\nSaturday \n\n9 a.m. – Noon\n\nThings to know \n\nLimit of four (4) bags per household of self-shoveled Grade A compost.*\nYou can pick up compost for one (1) other household as long as you have their registration form. If you are picking up for another household\, the limit is 8 bags of compost per visit.\nBags can hold approximately 25kg each. Bags and compost are provided. You must fill your own bags and place them in your vehicle.\nPlease be aware that staff are unable to assist in loading bags into vehicles.\n\nWhat should I bring?\n \n\nBring your own shovel (none will be provided).\nWe recommend wearing quality gloves and boots/outdoor shoes.\nPlease fill out the form before your visit and present it to staff when you arrive.\n\nCommunity groups \n\nAll community groups and not-for-profits within East Hants boundaries are welcome to collect compost after May 22\, if there is material left over.\nA registration form must be filled out before arriving.\nGroups are responsible for filling bags/containers and loading their own vehicles.
URL:https://www.easthants.ca/event/annual-compost-giveaway-2/2025-05-13/
LOCATION:Waste Management Centre\, 1306 Georgefield Road\, Upper Kennetcook\, Nova Scotia\, B0N 2L0\, Canada
CATEGORIES:Solid Waste Event
END:VEVENT
BEGIN:VEVENT
DTSTART;TZID=America/Halifax:20250514T090000
DTEND;TZID=America/Halifax:20250514T150000
DTSTAMP:20260421T232650
CREATED:20250501T173447Z
LAST-MODIFIED:20250501T173601Z
UID:10000472-1747213200-1747234800@www.easthants.ca
SUMMARY:Annual Compost Giveaway
DESCRIPTION:The annual compost giveaway event is open to all residents within East Hants boundaries. It runs from May 8 – 22\, 2025 or until material is gone. Please note\, this event has special hours.  \nMonday – Friday \n\n9 a.m. – 3 p.m.\n\nSaturday \n\n9 a.m. – Noon\n\nThings to know \n\nLimit of four (4) bags per household of self-shoveled Grade A compost.*\nYou can pick up compost for one (1) other household as long as you have their registration form. If you are picking up for another household\, the limit is 8 bags of compost per visit.\nBags can hold approximately 25kg each. Bags and compost are provided. You must fill your own bags and place them in your vehicle.\nPlease be aware that staff are unable to assist in loading bags into vehicles.\n\nWhat should I bring?\n \n\nBring your own shovel (none will be provided).\nWe recommend wearing quality gloves and boots/outdoor shoes.\nPlease fill out the form before your visit and present it to staff when you arrive.\n\nCommunity groups \n\nAll community groups and not-for-profits within East Hants boundaries are welcome to collect compost after May 22\, if there is material left over.\nA registration form must be filled out before arriving.\nGroups are responsible for filling bags/containers and loading their own vehicles.
URL:https://www.easthants.ca/event/annual-compost-giveaway-2/2025-05-14/
LOCATION:Waste Management Centre\, 1306 Georgefield Road\, Upper Kennetcook\, Nova Scotia\, B0N 2L0\, Canada
CATEGORIES:Solid Waste Event
END:VEVENT
BEGIN:VEVENT
DTSTART;TZID=America/Halifax:20250515T090000
DTEND;TZID=America/Halifax:20250515T150000
DTSTAMP:20260421T232650
CREATED:20250501T173447Z
LAST-MODIFIED:20250501T173601Z
UID:10000473-1747299600-1747321200@www.easthants.ca
SUMMARY:Annual Compost Giveaway
DESCRIPTION:The annual compost giveaway event is open to all residents within East Hants boundaries. It runs from May 8 – 22\, 2025 or until material is gone. Please note\, this event has special hours.  \nMonday – Friday \n\n9 a.m. – 3 p.m.\n\nSaturday \n\n9 a.m. – Noon\n\nThings to know \n\nLimit of four (4) bags per household of self-shoveled Grade A compost.*\nYou can pick up compost for one (1) other household as long as you have their registration form. If you are picking up for another household\, the limit is 8 bags of compost per visit.\nBags can hold approximately 25kg each. Bags and compost are provided. You must fill your own bags and place them in your vehicle.\nPlease be aware that staff are unable to assist in loading bags into vehicles.\n\nWhat should I bring?\n \n\nBring your own shovel (none will be provided).\nWe recommend wearing quality gloves and boots/outdoor shoes.\nPlease fill out the form before your visit and present it to staff when you arrive.\n\nCommunity groups \n\nAll community groups and not-for-profits within East Hants boundaries are welcome to collect compost after May 22\, if there is material left over.\nA registration form must be filled out before arriving.\nGroups are responsible for filling bags/containers and loading their own vehicles.
URL:https://www.easthants.ca/event/annual-compost-giveaway-2/2025-05-15/
LOCATION:Waste Management Centre\, 1306 Georgefield Road\, Upper Kennetcook\, Nova Scotia\, B0N 2L0\, Canada
CATEGORIES:Solid Waste Event
END:VEVENT
BEGIN:VEVENT
DTSTART;TZID=America/Halifax:20250516T090000
DTEND;TZID=America/Halifax:20250516T150000
DTSTAMP:20260421T232650
CREATED:20250501T173447Z
LAST-MODIFIED:20250501T173601Z
UID:10000474-1747386000-1747407600@www.easthants.ca
SUMMARY:Annual Compost Giveaway
DESCRIPTION:The annual compost giveaway event is open to all residents within East Hants boundaries. It runs from May 8 – 22\, 2025 or until material is gone. Please note\, this event has special hours.  \nMonday – Friday \n\n9 a.m. – 3 p.m.\n\nSaturday \n\n9 a.m. – Noon\n\nThings to know \n\nLimit of four (4) bags per household of self-shoveled Grade A compost.*\nYou can pick up compost for one (1) other household as long as you have their registration form. If you are picking up for another household\, the limit is 8 bags of compost per visit.\nBags can hold approximately 25kg each. Bags and compost are provided. You must fill your own bags and place them in your vehicle.\nPlease be aware that staff are unable to assist in loading bags into vehicles.\n\nWhat should I bring?\n \n\nBring your own shovel (none will be provided).\nWe recommend wearing quality gloves and boots/outdoor shoes.\nPlease fill out the form before your visit and present it to staff when you arrive.\n\nCommunity groups \n\nAll community groups and not-for-profits within East Hants boundaries are welcome to collect compost after May 22\, if there is material left over.\nA registration form must be filled out before arriving.\nGroups are responsible for filling bags/containers and loading their own vehicles.
URL:https://www.easthants.ca/event/annual-compost-giveaway-2/2025-05-16/
LOCATION:Waste Management Centre\, 1306 Georgefield Road\, Upper Kennetcook\, Nova Scotia\, B0N 2L0\, Canada
CATEGORIES:Solid Waste Event
END:VEVENT
BEGIN:VEVENT
DTSTART;TZID=America/Halifax:20250517T090000
DTEND;TZID=America/Halifax:20250517T120000
DTSTAMP:20260421T232650
CREATED:20250501T173447Z
LAST-MODIFIED:20250501T173601Z
UID:10000475-1747472400-1747483200@www.easthants.ca
SUMMARY:Annual Compost Giveaway
DESCRIPTION:The annual compost giveaway event is open to all residents within East Hants boundaries. It runs from May 8 – 22\, 2025 or until material is gone. Please note\, this event has special hours.  \nMonday – Friday \n\n9 a.m. – 3 p.m.\n\nSaturday \n\n9 a.m. – Noon\n\nThings to know \n\nLimit of four (4) bags per household of self-shoveled Grade A compost.*\nYou can pick up compost for one (1) other household as long as you have their registration form. If you are picking up for another household\, the limit is 8 bags of compost per visit.\nBags can hold approximately 25kg each. Bags and compost are provided. You must fill your own bags and place them in your vehicle.\nPlease be aware that staff are unable to assist in loading bags into vehicles.\n\nWhat should I bring?\n \n\nBring your own shovel (none will be provided).\nWe recommend wearing quality gloves and boots/outdoor shoes.\nPlease fill out the form before your visit and present it to staff when you arrive.\n\nCommunity groups \n\nAll community groups and not-for-profits within East Hants boundaries are welcome to collect compost after May 22\, if there is material left over.\nA registration form must be filled out before arriving.\nGroups are responsible for filling bags/containers and loading their own vehicles.
URL:https://www.easthants.ca/event/annual-compost-giveaway-2/2025-05-17/
LOCATION:Waste Management Centre\, 1306 Georgefield Road\, Upper Kennetcook\, Nova Scotia\, B0N 2L0\, Canada
CATEGORIES:Solid Waste Event
END:VEVENT
BEGIN:VEVENT
DTSTART;TZID=America/Halifax:20250520T090000
DTEND;TZID=America/Halifax:20250520T150000
DTSTAMP:20260421T232650
CREATED:20250501T173447Z
LAST-MODIFIED:20250501T173601Z
UID:10000479-1747731600-1747753200@www.easthants.ca
SUMMARY:Annual Compost Giveaway
DESCRIPTION:The annual compost giveaway event is open to all residents within East Hants boundaries. It runs from May 8 – 22\, 2025 or until material is gone. Please note\, this event has special hours.  \nMonday – Friday \n\n9 a.m. – 3 p.m.\n\nSaturday \n\n9 a.m. – Noon\n\nThings to know \n\nLimit of four (4) bags per household of self-shoveled Grade A compost.*\nYou can pick up compost for one (1) other household as long as you have their registration form. If you are picking up for another household\, the limit is 8 bags of compost per visit.\nBags can hold approximately 25kg each. Bags and compost are provided. You must fill your own bags and place them in your vehicle.\nPlease be aware that staff are unable to assist in loading bags into vehicles.\n\nWhat should I bring?\n \n\nBring your own shovel (none will be provided).\nWe recommend wearing quality gloves and boots/outdoor shoes.\nPlease fill out the form before your visit and present it to staff when you arrive.\n\nCommunity groups \n\nAll community groups and not-for-profits within East Hants boundaries are welcome to collect compost after May 22\, if there is material left over.\nA registration form must be filled out before arriving.\nGroups are responsible for filling bags/containers and loading their own vehicles.
URL:https://www.easthants.ca/event/annual-compost-giveaway-2/2025-05-20/
LOCATION:Waste Management Centre\, 1306 Georgefield Road\, Upper Kennetcook\, Nova Scotia\, B0N 2L0\, Canada
CATEGORIES:Solid Waste Event
END:VEVENT
BEGIN:VEVENT
DTSTART;TZID=America/Halifax:20250521T090000
DTEND;TZID=America/Halifax:20250521T150000
DTSTAMP:20260421T232650
CREATED:20250501T173447Z
LAST-MODIFIED:20250501T173601Z
UID:10000477-1747818000-1747839600@www.easthants.ca
SUMMARY:Annual Compost Giveaway
DESCRIPTION:The annual compost giveaway event is open to all residents within East Hants boundaries. It runs from May 8 – 22\, 2025 or until material is gone. Please note\, this event has special hours.  \nMonday – Friday \n\n9 a.m. – 3 p.m.\n\nSaturday \n\n9 a.m. – Noon\n\nThings to know \n\nLimit of four (4) bags per household of self-shoveled Grade A compost.*\nYou can pick up compost for one (1) other household as long as you have their registration form. If you are picking up for another household\, the limit is 8 bags of compost per visit.\nBags can hold approximately 25kg each. Bags and compost are provided. You must fill your own bags and place them in your vehicle.\nPlease be aware that staff are unable to assist in loading bags into vehicles.\n\nWhat should I bring?\n \n\nBring your own shovel (none will be provided).\nWe recommend wearing quality gloves and boots/outdoor shoes.\nPlease fill out the form before your visit and present it to staff when you arrive.\n\nCommunity groups \n\nAll community groups and not-for-profits within East Hants boundaries are welcome to collect compost after May 22\, if there is material left over.\nA registration form must be filled out before arriving.\nGroups are responsible for filling bags/containers and loading their own vehicles.
URL:https://www.easthants.ca/event/annual-compost-giveaway-2/2025-05-21/
LOCATION:Waste Management Centre\, 1306 Georgefield Road\, Upper Kennetcook\, Nova Scotia\, B0N 2L0\, Canada
CATEGORIES:Solid Waste Event
END:VEVENT
BEGIN:VEVENT
DTSTART;TZID=America/Halifax:20250522T090000
DTEND;TZID=America/Halifax:20250522T150000
DTSTAMP:20260421T232650
CREATED:20250501T173447Z
LAST-MODIFIED:20250501T173601Z
UID:10000478-1747904400-1747926000@www.easthants.ca
SUMMARY:Annual Compost Giveaway
DESCRIPTION:The annual compost giveaway event is open to all residents within East Hants boundaries. It runs from May 8 – 22\, 2025 or until material is gone. Please note\, this event has special hours.  \nMonday – Friday \n\n9 a.m. – 3 p.m.\n\nSaturday \n\n9 a.m. – Noon\n\nThings to know \n\nLimit of four (4) bags per household of self-shoveled Grade A compost.*\nYou can pick up compost for one (1) other household as long as you have their registration form. If you are picking up for another household\, the limit is 8 bags of compost per visit.\nBags can hold approximately 25kg each. Bags and compost are provided. You must fill your own bags and place them in your vehicle.\nPlease be aware that staff are unable to assist in loading bags into vehicles.\n\nWhat should I bring?\n \n\nBring your own shovel (none will be provided).\nWe recommend wearing quality gloves and boots/outdoor shoes.\nPlease fill out the form before your visit and present it to staff when you arrive.\n\nCommunity groups \n\nAll community groups and not-for-profits within East Hants boundaries are welcome to collect compost after May 22\, if there is material left over.\nA registration form must be filled out before arriving.\nGroups are responsible for filling bags/containers and loading their own vehicles.
URL:https://www.easthants.ca/event/annual-compost-giveaway-2/2025-05-22/
LOCATION:Waste Management Centre\, 1306 Georgefield Road\, Upper Kennetcook\, Nova Scotia\, B0N 2L0\, Canada
CATEGORIES:Solid Waste Event
END:VEVENT
END:VCALENDAR