BEGIN:VCALENDAR
VERSION:2.0
PRODID:-//Municipality of East Hants - ECPv6.15.20//NONSGML v1.0//EN
CALSCALE:GREGORIAN
METHOD:PUBLISH
X-ORIGINAL-URL:https://www.easthants.ca
X-WR-CALDESC:Events for Municipality of East Hants
REFRESH-INTERVAL;VALUE=DURATION:PT1H
X-Robots-Tag:noindex
X-PUBLISHED-TTL:PT1H
BEGIN:VTIMEZONE
TZID:America/Halifax
BEGIN:DAYLIGHT
TZOFFSETFROM:-0400
TZOFFSETTO:-0300
TZNAME:ADT
DTSTART:20250309T060000
END:DAYLIGHT
BEGIN:STANDARD
TZOFFSETFROM:-0300
TZOFFSETTO:-0400
TZNAME:AST
DTSTART:20251102T050000
END:STANDARD
BEGIN:DAYLIGHT
TZOFFSETFROM:-0400
TZOFFSETTO:-0300
TZNAME:ADT
DTSTART:20260308T060000
END:DAYLIGHT
BEGIN:STANDARD
TZOFFSETFROM:-0300
TZOFFSETTO:-0400
TZNAME:AST
DTSTART:20261101T050000
END:STANDARD
BEGIN:DAYLIGHT
TZOFFSETFROM:-0400
TZOFFSETTO:-0300
TZNAME:ADT
DTSTART:20270314T060000
END:DAYLIGHT
BEGIN:STANDARD
TZOFFSETFROM:-0300
TZOFFSETTO:-0400
TZNAME:AST
DTSTART:20271107T050000
END:STANDARD
END:VTIMEZONE
BEGIN:VEVENT
DTSTART;TZID=America/Halifax:20260106T190000
DTEND;TZID=America/Halifax:20260106T210000
DTSTAMP:20260420T233809
CREATED:20251204T180325Z
LAST-MODIFIED:20251204T180325Z
UID:10000089-1767726000-1767733200@www.easthants.ca
SUMMARY:Public Information Meeting
DESCRIPTION:A Public Information Meeting is being held regarding the following planning applications: \nPLN25-010- Amendments to the Official Community Plan\nConsidering amendments to the Municipal Planning Strategy and Land Use Bylaw to reduce the minimum setback requirement for an intensive livestock operation use within the Rural Use North (RU-2) zone. \nPLN25-009: Amendments to the Official Community Plan\nApplication from David Maddeaux to redesignate and rezone his property located at 47 MacIntosh Road\, Upper Nine Mile River. The proposal is to change the designation and zone from Agricultural Reserve (AR) to Rural Use (RU). \nThe purpose of the meeting is to outline the proposals and respond to residents’ questions and comments. A final decision to approve or refuse the applications will take place following a public hearing to be scheduled at a later date.
URL:https://www.easthants.ca/event/public-information-meeting-if-required-6/
LOCATION:Lloyd E. Matheson Centre\, Room 168\, 15 Commerce Court\, Elmsdale\, Nova Scotia\, B2S 3K5\, Canada
CATEGORIES:Council if required,Public Information Meeting
END:VEVENT
END:VCALENDAR