BEGIN:VCALENDAR
VERSION:2.0
PRODID:-//Municipality of East Hants - ECPv6.15.20//NONSGML v1.0//EN
CALSCALE:GREGORIAN
METHOD:PUBLISH
X-ORIGINAL-URL:https://www.easthants.ca
X-WR-CALDESC:Events for Municipality of East Hants
REFRESH-INTERVAL;VALUE=DURATION:PT1H
X-Robots-Tag:noindex
X-PUBLISHED-TTL:PT1H
BEGIN:VTIMEZONE
TZID:America/Halifax
BEGIN:DAYLIGHT
TZOFFSETFROM:-0400
TZOFFSETTO:-0300
TZNAME:ADT
DTSTART:20230312T060000
END:DAYLIGHT
BEGIN:STANDARD
TZOFFSETFROM:-0300
TZOFFSETTO:-0400
TZNAME:AST
DTSTART:20231105T050000
END:STANDARD
BEGIN:DAYLIGHT
TZOFFSETFROM:-0400
TZOFFSETTO:-0300
TZNAME:ADT
DTSTART:20240310T060000
END:DAYLIGHT
BEGIN:STANDARD
TZOFFSETFROM:-0300
TZOFFSETTO:-0400
TZNAME:AST
DTSTART:20241103T050000
END:STANDARD
BEGIN:DAYLIGHT
TZOFFSETFROM:-0400
TZOFFSETTO:-0300
TZNAME:ADT
DTSTART:20250309T060000
END:DAYLIGHT
BEGIN:STANDARD
TZOFFSETFROM:-0300
TZOFFSETTO:-0400
TZNAME:AST
DTSTART:20251102T050000
END:STANDARD
END:VTIMEZONE
BEGIN:VEVENT
DTSTART;TZID=America/Halifax:20240925T193000
DTEND;TZID=America/Halifax:20240925T210000
DTSTAMP:20260423T013556
CREATED:20240909T190157Z
LAST-MODIFIED:20250326T194207Z
UID:10000227-1727292600-1727298000@www.easthants.ca
SUMMARY:Public Hearings for PLN24-004 & PLN24-007
DESCRIPTION:The Municipality of East Hants will be holding two Public Hearings regarding the following applications: \nPLN24-004 Havenwood Drive\, Shubenacadie \nRYC Property Ltd. has submitted an application to change the land use designation and zone of lands located at the end of Havenwood Drive\, Shubenacadie\, identified as PID 45097227\, to allow for residential development. Changing the zone to Two Dwelling Unit Residential (R2) Zone could enable the development of up to 47 semi-detached structures\, for a total of 94 dwelling units. \nPLN24-007: Mapping Amendment to the Municipal Planning Strategy and Land Use Bylaw – East Gore \nThis is a proposal to amend the Official Community Plan to enable the expansion of a non-farm dwelling by re-designating and rezoning the property from Agricultural Reserve (AR) to Rural Use North (RU-2). The subject property is located at 2929 Highway 202\, East Gore and is identified as PID 45117975. \nAt the Hearings\, Council will consider presentations from persons regarding the proposals. \nThe Public Hearings will be held on Wednesday\, September 25\, 2024 beginning at 7:30 p.m. at the Lloyd E. Matheson Centre\, 15 Commerce Court\, Elmsdale. In the event of cancellation\, the meetings will be held on Thursday\, September 26\, 2024 beginning at 7 p.m. The Public Hearing will also be livestreamed on the municipal website at easthants.ca/livestream. \nTo view the staff reports\, visit easthants.ca/planning-applications or for further information please contact: planning@easthants.ca or 902-883-3387.
URL:https://www.easthants.ca/event/public-hearings-pln24-004-pln24-007/
LOCATION:Lloyd E. Matheson Centre\, Council Chambers\, 15 Commerce Court\, Elmsdale\, Nova Scotia\, B2S 3K5\, Canada
CATEGORIES:Council,Public Hearing
END:VEVENT
END:VCALENDAR