BEGIN:VCALENDAR
VERSION:2.0
PRODID:-//Municipality of East Hants - ECPv6.15.20//NONSGML v1.0//EN
CALSCALE:GREGORIAN
METHOD:PUBLISH
X-ORIGINAL-URL:https://www.easthants.ca
X-WR-CALDESC:Events for Municipality of East Hants
REFRESH-INTERVAL;VALUE=DURATION:PT1H
X-Robots-Tag:noindex
X-PUBLISHED-TTL:PT1H
BEGIN:VTIMEZONE
TZID:America/Halifax
BEGIN:DAYLIGHT
TZOFFSETFROM:-0400
TZOFFSETTO:-0300
TZNAME:ADT
DTSTART:20230312T060000
END:DAYLIGHT
BEGIN:STANDARD
TZOFFSETFROM:-0300
TZOFFSETTO:-0400
TZNAME:AST
DTSTART:20231105T050000
END:STANDARD
BEGIN:DAYLIGHT
TZOFFSETFROM:-0400
TZOFFSETTO:-0300
TZNAME:ADT
DTSTART:20240310T060000
END:DAYLIGHT
BEGIN:STANDARD
TZOFFSETFROM:-0300
TZOFFSETTO:-0400
TZNAME:AST
DTSTART:20241103T050000
END:STANDARD
BEGIN:DAYLIGHT
TZOFFSETFROM:-0400
TZOFFSETTO:-0300
TZNAME:ADT
DTSTART:20250309T060000
END:DAYLIGHT
BEGIN:STANDARD
TZOFFSETFROM:-0300
TZOFFSETTO:-0400
TZNAME:AST
DTSTART:20251102T050000
END:STANDARD
END:VTIMEZONE
BEGIN:VEVENT
DTSTART;TZID=America/Halifax:20240424T193000
DTEND;TZID=America/Halifax:20240424T200000
DTSTAMP:20260423T191438
CREATED:20240412T191806Z
LAST-MODIFIED:20240415T115956Z
UID:10000167-1713987000-1713988800@www.easthants.ca
SUMMARY:Public Hearing for PLN23-012
DESCRIPTION:East Hants Council will hold a Public Hearing regarding PLN23-012 – an application from Tammy and Joe Ferguson to develop a cosmetology school on property located at 7224 Highway 14 in Nine Mile River. Learn more here. \nThe Public Hearing will take place at the Lloyd E. Matheson Centre\, 15 Commerce Court\, Elmsdale\, on Wednesday\, April 24\, 2024\, beginning at 7:30 p.m. In the event of cancellation\, the meeting will be held on Thursday\, April 25\, 2024\, beginning at 7 p.m. The Public Hearing will also be live-streamed on the municipal website at easthants.ca/livestream.
URL:https://www.easthants.ca/event/public-hearing-for-pln23-012/
LOCATION:Lloyd E. Matheson Centre\, Council Chambers\, 15 Commerce Court\, Elmsdale\, Nova Scotia\, B2S 3K5\, Canada
CATEGORIES:Public Hearing
END:VEVENT
END:VCALENDAR