BEGIN:VCALENDAR
VERSION:2.0
PRODID:-//Municipality of East Hants - ECPv6.15.20//NONSGML v1.0//EN
CALSCALE:GREGORIAN
METHOD:PUBLISH
X-WR-CALNAME:Municipality of East Hants
X-ORIGINAL-URL:https://www.easthants.ca
X-WR-CALDESC:Events for Municipality of East Hants
REFRESH-INTERVAL;VALUE=DURATION:PT1H
X-Robots-Tag:noindex
X-PUBLISHED-TTL:PT1H
BEGIN:VTIMEZONE
TZID:America/Halifax
BEGIN:DAYLIGHT
TZOFFSETFROM:-0400
TZOFFSETTO:-0300
TZNAME:ADT
DTSTART:20230312T060000
END:DAYLIGHT
BEGIN:STANDARD
TZOFFSETFROM:-0300
TZOFFSETTO:-0400
TZNAME:AST
DTSTART:20231105T050000
END:STANDARD
BEGIN:DAYLIGHT
TZOFFSETFROM:-0400
TZOFFSETTO:-0300
TZNAME:ADT
DTSTART:20240310T060000
END:DAYLIGHT
BEGIN:STANDARD
TZOFFSETFROM:-0300
TZOFFSETTO:-0400
TZNAME:AST
DTSTART:20241103T050000
END:STANDARD
BEGIN:DAYLIGHT
TZOFFSETFROM:-0400
TZOFFSETTO:-0300
TZNAME:ADT
DTSTART:20250309T060000
END:DAYLIGHT
BEGIN:STANDARD
TZOFFSETFROM:-0300
TZOFFSETTO:-0400
TZNAME:AST
DTSTART:20251102T050000
END:STANDARD
END:VTIMEZONE
BEGIN:VEVENT
DTSTART;TZID=America/Halifax:20241030T190000
DTEND;TZID=America/Halifax:20241030T200000
DTSTAMP:20260424T050028
CREATED:20241021T134533Z
LAST-MODIFIED:20241029T124540Z
UID:10000247-1730314800-1730318400@www.easthants.ca
SUMMARY:Inaugural Meeting of Council & Swearing In Ceremony
DESCRIPTION:View meeting agenda
URL:https://www.easthants.ca/event/inaugural-swearing-in-council-meeting-meeting/
LOCATION:Lloyd E. Matheson Centre\, Council Chambers\, 15 Commerce Court\, Elmsdale\, Nova Scotia\, B2S 3K5\, Canada
CATEGORIES:Council
END:VEVENT
END:VCALENDAR