BEGIN:VCALENDAR
VERSION:2.0
PRODID:-//Municipality of East Hants - ECPv6.15.20//NONSGML v1.0//EN
CALSCALE:GREGORIAN
METHOD:PUBLISH
X-WR-CALNAME:Municipality of East Hants
X-ORIGINAL-URL:https://www.easthants.ca
X-WR-CALDESC:Events for Municipality of East Hants
REFRESH-INTERVAL;VALUE=DURATION:PT1H
X-Robots-Tag:noindex
X-PUBLISHED-TTL:PT1H
BEGIN:VTIMEZONE
TZID:America/Halifax
BEGIN:DAYLIGHT
TZOFFSETFROM:-0400
TZOFFSETTO:-0300
TZNAME:ADT
DTSTART:20240310T060000
END:DAYLIGHT
BEGIN:STANDARD
TZOFFSETFROM:-0300
TZOFFSETTO:-0400
TZNAME:AST
DTSTART:20241103T050000
END:STANDARD
BEGIN:DAYLIGHT
TZOFFSETFROM:-0400
TZOFFSETTO:-0300
TZNAME:ADT
DTSTART:20250309T060000
END:DAYLIGHT
BEGIN:STANDARD
TZOFFSETFROM:-0300
TZOFFSETTO:-0400
TZNAME:AST
DTSTART:20251102T050000
END:STANDARD
BEGIN:DAYLIGHT
TZOFFSETFROM:-0400
TZOFFSETTO:-0300
TZNAME:ADT
DTSTART:20260308T060000
END:DAYLIGHT
BEGIN:STANDARD
TZOFFSETFROM:-0300
TZOFFSETTO:-0400
TZNAME:AST
DTSTART:20261101T050000
END:STANDARD
END:VTIMEZONE
BEGIN:VEVENT
DTSTART;TZID=America/Halifax:20251021T090000
DTEND;TZID=America/Halifax:20251021T160000
DTSTAMP:20260421T202437
CREATED:20241216T171848Z
LAST-MODIFIED:20241216T174411Z
UID:10000359-1761037200-1761062400@www.easthants.ca
SUMMARY:Executive Committee Meeting
DESCRIPTION:View meeting agenda (when available)
URL:https://www.easthants.ca/event/executive-committee-meeting-2025/2025-10-21/
LOCATION:Lloyd E. Matheson Centre\, Council Chambers\, 15 Commerce Court\, Elmsdale\, Nova Scotia\, B2S 3K5\, Canada
CATEGORIES:Council
END:VEVENT
BEGIN:VEVENT
DTSTART;TZID=America/Halifax:20251021T160000
DTEND;TZID=America/Halifax:20251021T163000
DTSTAMP:20260421T202437
CREATED:20241216T174122Z
LAST-MODIFIED:20241216T174122Z
UID:10000407-1761062400-1761064200@www.easthants.ca
SUMMARY:Regular Meeting of Council (Policy & In Camera)
DESCRIPTION:View meeting agenda (when available)
URL:https://www.easthants.ca/event/regular-meeting-of-council-policy-in-camera-3/2025-10-21/
LOCATION:Lloyd E. Matheson Centre\, Council Chambers\, 15 Commerce Court\, Elmsdale\, Nova Scotia\, B2S 3K5\, Canada
CATEGORIES:Council
END:VEVENT
BEGIN:VEVENT
DTSTART;TZID=America/Halifax:20251023T190000
DTEND;TZID=America/Halifax:20251023T203000
DTSTAMP:20260421T202437
CREATED:20250909T130142Z
LAST-MODIFIED:20251023T215939Z
UID:10000379-1761246000-1761251400@www.easthants.ca
SUMMARY:Executive Committee Meeting Extension - Housing Strategy Review
DESCRIPTION:View meeting agenda (when available)
URL:https://www.easthants.ca/event/executive-committee-meeting-extension-oct-2025/
LOCATION:Lloyd E. Matheson Centre\, Council Chambers\, 15 Commerce Court\, Elmsdale\, Nova Scotia\, B2S 3K5\, Canada
CATEGORIES:Council
END:VEVENT
BEGIN:VEVENT
DTSTART;TZID=America/Halifax:20251029T190000
DTEND;TZID=America/Halifax:20251029T210000
DTSTAMP:20260421T202437
CREATED:20241216T161549Z
LAST-MODIFIED:20241216T162832Z
UID:10000318-1761764400-1761771600@www.easthants.ca
SUMMARY:Regular Meeting of Council
DESCRIPTION:View meeting agenda (when available)
URL:https://www.easthants.ca/event/regular-meeting-of-council-2025/2025-10-29/
LOCATION:Lloyd E. Matheson Centre\, Council Chambers\, 15 Commerce Court\, Elmsdale\, Nova Scotia\, B2S 3K5\, Canada
CATEGORIES:Council
END:VEVENT
END:VCALENDAR