BEGIN:VCALENDAR
VERSION:2.0
PRODID:-//Municipality of East Hants - ECPv6.15.20//NONSGML v1.0//EN
CALSCALE:GREGORIAN
METHOD:PUBLISH
X-WR-CALNAME:Municipality of East Hants
X-ORIGINAL-URL:https://www.easthants.ca
X-WR-CALDESC:Events for Municipality of East Hants
REFRESH-INTERVAL;VALUE=DURATION:PT1H
X-Robots-Tag:noindex
X-PUBLISHED-TTL:PT1H
BEGIN:VTIMEZONE
TZID:America/Halifax
BEGIN:DAYLIGHT
TZOFFSETFROM:-0400
TZOFFSETTO:-0300
TZNAME:ADT
DTSTART:20240310T060000
END:DAYLIGHT
BEGIN:STANDARD
TZOFFSETFROM:-0300
TZOFFSETTO:-0400
TZNAME:AST
DTSTART:20241103T050000
END:STANDARD
BEGIN:DAYLIGHT
TZOFFSETFROM:-0400
TZOFFSETTO:-0300
TZNAME:ADT
DTSTART:20250309T060000
END:DAYLIGHT
BEGIN:STANDARD
TZOFFSETFROM:-0300
TZOFFSETTO:-0400
TZNAME:AST
DTSTART:20251102T050000
END:STANDARD
BEGIN:DAYLIGHT
TZOFFSETFROM:-0400
TZOFFSETTO:-0300
TZNAME:ADT
DTSTART:20260308T060000
END:DAYLIGHT
BEGIN:STANDARD
TZOFFSETFROM:-0300
TZOFFSETTO:-0400
TZNAME:AST
DTSTART:20261101T050000
END:STANDARD
END:VTIMEZONE
BEGIN:VEVENT
DTSTART;TZID=America/Halifax:20250318T090000
DTEND;TZID=America/Halifax:20250318T160000
DTSTAMP:20260423T172221
CREATED:20241216T171848Z
LAST-MODIFIED:20241216T174411Z
UID:10000352-1742288400-1742313600@www.easthants.ca
SUMMARY:Executive Committee Meeting
DESCRIPTION:View meeting agenda (when available)
URL:https://www.easthants.ca/event/executive-committee-meeting-2025/2025-03-18/
LOCATION:Lloyd E. Matheson Centre\, Council Chambers\, 15 Commerce Court\, Elmsdale\, Nova Scotia\, B2S 3K5\, Canada
CATEGORIES:Council
END:VEVENT
BEGIN:VEVENT
DTSTART;TZID=America/Halifax:20250318T160000
DTEND;TZID=America/Halifax:20250318T163000
DTSTAMP:20260423T172221
CREATED:20241216T174122Z
LAST-MODIFIED:20241216T174122Z
UID:10000401-1742313600-1742315400@www.easthants.ca
SUMMARY:Regular Meeting of Council (Policy & In Camera)
DESCRIPTION:View meeting agenda (when available)
URL:https://www.easthants.ca/event/regular-meeting-of-council-policy-in-camera-3/2025-03-18/
LOCATION:Lloyd E. Matheson Centre\, Council Chambers\, 15 Commerce Court\, Elmsdale\, Nova Scotia\, B2S 3K5\, Canada
CATEGORIES:Council
END:VEVENT
BEGIN:VEVENT
DTSTART;TZID=America/Halifax:20250326T190000
DTEND;TZID=America/Halifax:20250326T210000
DTSTAMP:20260423T172221
CREATED:20241216T161549Z
LAST-MODIFIED:20241216T162832Z
UID:10000312-1743015600-1743022800@www.easthants.ca
SUMMARY:Regular Meeting of Council
DESCRIPTION:View meeting agenda (when available)
URL:https://www.easthants.ca/event/regular-meeting-of-council-2025/2025-03-26/
LOCATION:Lloyd E. Matheson Centre\, Council Chambers\, 15 Commerce Court\, Elmsdale\, Nova Scotia\, B2S 3K5\, Canada
CATEGORIES:Council
END:VEVENT
BEGIN:VEVENT
DTSTART;TZID=America/Halifax:20250326T190000
DTEND;TZID=America/Halifax:20250326T210000
DTSTAMP:20260423T172221
CREATED:20251124T195625Z
LAST-MODIFIED:20251124T195625Z
UID:10000685-1743015600-1743022800@www.easthants.ca
SUMMARY:Regular Meeting of Council
DESCRIPTION:View meeting agenda when available
URL:https://www.easthants.ca/event/regular-meeting-of-council-5/
LOCATION:Lloyd E. Matheson Centre\, Council Chambers\, 15 Commerce Court\, Elmsdale\, Nova Scotia\, B2S 3K5\, Canada
CATEGORIES:Council
END:VEVENT
BEGIN:VEVENT
DTSTART;TZID=America/Halifax:20250326T193000
DTEND;TZID=America/Halifax:20250326T210000
DTSTAMP:20260423T172221
CREATED:20250326T194124Z
LAST-MODIFIED:20250326T194139Z
UID:10000434-1743017400-1743022800@www.easthants.ca
SUMMARY:Public Hearings for PLN24-002 & Community Plan Updates
DESCRIPTION:The Municipality of East Hants will be holding two Public Hearings regarding the following applications: \nPLN24-002: Mapping Amendment to the Municipal Planning Strategy and Land Use Bylaw – Upper Nine Mile River\nEdward Hunter has submitted an application to change the land use designation and zone of lands located on Indian Road\, Upper Nine Mile River identified as PID 45189206 from the Agricultural Reserve (AR) zone and designation to the Rural Use (RU) zone and designation to enable further as-of-right opportunities on the land. \nAmendments to the Official Community Plan\nEast Hants Municipality is considering amendments to the Municipal Planning Strategy and Land Use Bylaw to permit smaller mini-homes to be used as accessory dwelling units. The proposed changhomes changes would impact residential zones that permit single unit dwellings. \nThe Public Hearing will be held on Wednesday\, March 26\, 2025 beginning at 7:30 p.m. at the Lloyd E. Matheson Centre\, 15 Commerce Court\, Elmsdale. In the event of cancellation\, the meeting will be held on Thursday\, March 27\, 2025 beginning at 7 p.m. The Public Hearing will also be livestreamed on the municipal website at easthants.ca/livestream. \n  \nAt the Hearing\, Council will consider presentations from persons regarding the proposals. \nTo view the staff reports\, visit easthants.ca/planning-applications or for further information please contact: planning@easthants.ca or 902-883-3387.
URL:https://www.easthants.ca/event/public-hearings-march-26-2025/
LOCATION:Lloyd E. Matheson Centre\, Council Chambers\, 15 Commerce Court\, Elmsdale\, Nova Scotia\, B2S 3K5\, Canada
CATEGORIES:Council,Public Hearing
END:VEVENT
END:VCALENDAR