BEGIN:VCALENDAR
VERSION:2.0
PRODID:-//Municipality of East Hants - ECPv6.15.20//NONSGML v1.0//EN
CALSCALE:GREGORIAN
METHOD:PUBLISH
X-ORIGINAL-URL:https://www.easthants.ca
X-WR-CALDESC:Events for Municipality of East Hants
REFRESH-INTERVAL;VALUE=DURATION:PT1H
X-Robots-Tag:noindex
X-PUBLISHED-TTL:PT1H
BEGIN:VTIMEZONE
TZID:America/Halifax
BEGIN:DAYLIGHT
TZOFFSETFROM:-0400
TZOFFSETTO:-0300
TZNAME:ADT
DTSTART:20230312T060000
END:DAYLIGHT
BEGIN:STANDARD
TZOFFSETFROM:-0300
TZOFFSETTO:-0400
TZNAME:AST
DTSTART:20231105T050000
END:STANDARD
BEGIN:DAYLIGHT
TZOFFSETFROM:-0400
TZOFFSETTO:-0300
TZNAME:ADT
DTSTART:20240310T060000
END:DAYLIGHT
BEGIN:STANDARD
TZOFFSETFROM:-0300
TZOFFSETTO:-0400
TZNAME:AST
DTSTART:20241103T050000
END:STANDARD
BEGIN:DAYLIGHT
TZOFFSETFROM:-0400
TZOFFSETTO:-0300
TZNAME:ADT
DTSTART:20250309T060000
END:DAYLIGHT
BEGIN:STANDARD
TZOFFSETFROM:-0300
TZOFFSETTO:-0400
TZNAME:AST
DTSTART:20251102T050000
END:STANDARD
END:VTIMEZONE
BEGIN:VEVENT
DTSTART;TZID=America/Halifax:20240716T090000
DTEND;TZID=America/Halifax:20240716T160000
DTSTAMP:20260424T125639
CREATED:20240319T121519Z
LAST-MODIFIED:20240415T175550Z
UID:10000006-1721120400-1721145600@www.easthants.ca
SUMMARY:Executive Committee Meeting
DESCRIPTION:View meeting agenda (when available)
URL:https://www.easthants.ca/event/executive-committee-meeting/2024-07-16/
LOCATION:Lloyd E. Matheson Centre\, Council Chambers\, 15 Commerce Court\, Elmsdale\, Nova Scotia\, B2S 3K5\, Canada
CATEGORIES:Council
END:VEVENT
BEGIN:VEVENT
DTSTART;TZID=America/Halifax:20240716T160000
DTEND;TZID=America/Halifax:20240716T170000
DTSTAMP:20260424T125639
CREATED:20240319T124016Z
LAST-MODIFIED:20240415T173520Z
UID:10000015-1721145600-1721149200@www.easthants.ca
SUMMARY:Regular Meeting of Council (Policy & In Camera)
DESCRIPTION:View meeting agenda (when available)
URL:https://www.easthants.ca/event/regular-meeting-of-council-policy-in-camera/2024-07-16/
LOCATION:Lloyd E. Matheson Centre\, Council Chambers\, 15 Commerce Court\, Elmsdale\, Nova Scotia\, B2S 3K5\, Canada
CATEGORIES:Council
END:VEVENT
BEGIN:VEVENT
DTSTART;TZID=America/Halifax:20240722T183000
DTEND;TZID=America/Halifax:20240722T203000
DTSTAMP:20260424T125639
CREATED:20240408T171734Z
LAST-MODIFIED:20240927T162734Z
UID:10000151-1721673000-1721680200@www.easthants.ca
SUMMARY:Municipal Housing Working Group Meeting
DESCRIPTION:In November 2023\, Council approved establishing a Municipal Housing Working Group to aid in developing the strategy. The working group will meet monthly for 8-12 months during the strategy development. \nLearn more about the East Hants Municipal Housing Working Group here.
URL:https://www.easthants.ca/event/municipal-housing-working-group-meeting/2024-07-22/
LOCATION:Lloyd E. Matheson Centre\, Room 168\, 15 Commerce Court\, Elmsdale\, Nova Scotia\, B2S 3K5\, Canada
CATEGORIES:Council
END:VEVENT
BEGIN:VEVENT
DTSTART;TZID=America/Halifax:20240724T190000
DTEND;TZID=America/Halifax:20240724T210000
DTSTAMP:20260424T125639
CREATED:20240319T124947Z
LAST-MODIFIED:20240415T114817Z
UID:10000182-1721847600-1721854800@www.easthants.ca
SUMMARY:Regular Meeting of Council
DESCRIPTION:View meeting agenda (when available)
URL:https://www.easthants.ca/event/regular-meeting-of-council/2024-07-24/
LOCATION:Lloyd E. Matheson Centre\, Council Chambers\, 15 Commerce Court\, Elmsdale\, Nova Scotia\, B2S 3K5\, Canada
CATEGORIES:Council
END:VEVENT
BEGIN:VEVENT
DTSTART;TZID=America/Halifax:20240724T190000
DTEND;TZID=America/Halifax:20240724T210000
DTSTAMP:20260424T125639
CREATED:20241216T161300Z
LAST-MODIFIED:20241216T161300Z
UID:10000300-1721847600-1721854800@www.easthants.ca
SUMMARY:Regular Meeting of Council
DESCRIPTION:View meeting agenda (when available)
URL:https://www.easthants.ca/event/regular-meeting-of-council-2/2024-07-24/
LOCATION:Lloyd E. Matheson Centre\, Council Chambers\, 15 Commerce Court\, Elmsdale\, Nova Scotia\, B2S 3K5\, Canada
CATEGORIES:Council
END:VEVENT
END:VCALENDAR