BEGIN:VCALENDAR
VERSION:2.0
PRODID:-//Municipality of East Hants - ECPv6.15.20//NONSGML v1.0//EN
CALSCALE:GREGORIAN
METHOD:PUBLISH
X-WR-CALNAME:Municipality of East Hants
X-ORIGINAL-URL:https://www.easthants.ca
X-WR-CALDESC:Events for Municipality of East Hants
REFRESH-INTERVAL;VALUE=DURATION:PT1H
X-Robots-Tag:noindex
X-PUBLISHED-TTL:PT1H
BEGIN:VTIMEZONE
TZID:America/Halifax
BEGIN:DAYLIGHT
TZOFFSETFROM:-0400
TZOFFSETTO:-0300
TZNAME:ADT
DTSTART:20240310T060000
END:DAYLIGHT
BEGIN:STANDARD
TZOFFSETFROM:-0300
TZOFFSETTO:-0400
TZNAME:AST
DTSTART:20241103T050000
END:STANDARD
BEGIN:DAYLIGHT
TZOFFSETFROM:-0400
TZOFFSETTO:-0300
TZNAME:ADT
DTSTART:20250309T060000
END:DAYLIGHT
BEGIN:STANDARD
TZOFFSETFROM:-0300
TZOFFSETTO:-0400
TZNAME:AST
DTSTART:20251102T050000
END:STANDARD
BEGIN:DAYLIGHT
TZOFFSETFROM:-0400
TZOFFSETTO:-0300
TZNAME:ADT
DTSTART:20260308T060000
END:DAYLIGHT
BEGIN:STANDARD
TZOFFSETFROM:-0300
TZOFFSETTO:-0400
TZNAME:AST
DTSTART:20261101T050000
END:STANDARD
END:VTIMEZONE
BEGIN:VEVENT
DTSTART;TZID=America/Halifax:20250520T183000
DTEND;TZID=America/Halifax:20250520T200000
DTSTAMP:20260421T045659
CREATED:20250401T171022Z
LAST-MODIFIED:20250424T113020Z
UID:10000435-1747765800-1747771200@www.easthants.ca
SUMMARY:How We'll Thrive in 2025
DESCRIPTION:Join Warden Eleanor Roulston and Chief Administrative Officer Kim Ramsay for a presentation on the 2025-2026 budgets and business plan and learn how East Hants will continue to thrive in the year ahead.
URL:https://www.easthants.ca/event/how-well-thrive-in-2025/
LOCATION:Lloyd E. Matheson Centre\, Room 168\, 15 Commerce Court\, Elmsdale\, Nova Scotia\, B2S 3K5\, Canada
CATEGORIES:Community Event
END:VEVENT
END:VCALENDAR