BEGIN:VCALENDAR
VERSION:2.0
PRODID:-//Municipality of East Hants - ECPv6.15.20//NONSGML v1.0//EN
CALSCALE:GREGORIAN
METHOD:PUBLISH
X-WR-CALNAME:Municipality of East Hants
X-ORIGINAL-URL:https://www.easthants.ca
X-WR-CALDESC:Events for Municipality of East Hants
REFRESH-INTERVAL;VALUE=DURATION:PT1H
X-Robots-Tag:noindex
X-PUBLISHED-TTL:PT1H
BEGIN:VTIMEZONE
TZID:America/Halifax
BEGIN:DAYLIGHT
TZOFFSETFROM:-0400
TZOFFSETTO:-0300
TZNAME:ADT
DTSTART:20230312T060000
END:DAYLIGHT
BEGIN:STANDARD
TZOFFSETFROM:-0300
TZOFFSETTO:-0400
TZNAME:AST
DTSTART:20231105T050000
END:STANDARD
BEGIN:DAYLIGHT
TZOFFSETFROM:-0400
TZOFFSETTO:-0300
TZNAME:ADT
DTSTART:20240310T060000
END:DAYLIGHT
BEGIN:STANDARD
TZOFFSETFROM:-0300
TZOFFSETTO:-0400
TZNAME:AST
DTSTART:20241103T050000
END:STANDARD
BEGIN:DAYLIGHT
TZOFFSETFROM:-0400
TZOFFSETTO:-0300
TZNAME:ADT
DTSTART:20250309T060000
END:DAYLIGHT
BEGIN:STANDARD
TZOFFSETFROM:-0300
TZOFFSETTO:-0400
TZNAME:AST
DTSTART:20251102T050000
END:STANDARD
END:VTIMEZONE
BEGIN:VEVENT
DTSTART;TZID=America/Halifax:20240515T183000
DTEND;TZID=America/Halifax:20240515T203000
DTSTAMP:20260423T231542
CREATED:20240411T142922Z
LAST-MODIFIED:20240411T143040Z
UID:10000166-1715797800-1715805000@www.easthants.ca
SUMMARY:Volunteer Networking Event
DESCRIPTION:Happening at the Riverview United Church Hall – 760 Highway #2\, Elmsdale \nJoin East Hants Parks\, Recreation and Culture staff and fellow East Hants volunteers for an evening of conversation\, connecting\, problem solving and much more! Refreshments provided. Register now using the form below. \n  \n\n	Notice: JavaScript is required for this content.
URL:https://www.easthants.ca/event/volunteer-networking-event-may-2024/
LOCATION:Riverview United Church Hall\, 760 Highway 2\, Elmsdale\, Nova Scotia\, B2S 1G3\, Canada
CATEGORIES:Community Event
END:VEVENT
END:VCALENDAR