BEGIN:VCALENDAR
VERSION:2.0
PRODID:-//Municipality of East Hants - ECPv6.15.20//NONSGML v1.0//EN
CALSCALE:GREGORIAN
METHOD:PUBLISH
X-WR-CALNAME:Municipality of East Hants
X-ORIGINAL-URL:https://www.easthants.ca
X-WR-CALDESC:Events for Municipality of East Hants
REFRESH-INTERVAL;VALUE=DURATION:PT1H
X-Robots-Tag:noindex
X-PUBLISHED-TTL:PT1H
BEGIN:VTIMEZONE
TZID:America/Halifax
BEGIN:DAYLIGHT
TZOFFSETFROM:-0400
TZOFFSETTO:-0300
TZNAME:ADT
DTSTART:20230312T060000
END:DAYLIGHT
BEGIN:STANDARD
TZOFFSETFROM:-0300
TZOFFSETTO:-0400
TZNAME:AST
DTSTART:20231105T050000
END:STANDARD
BEGIN:DAYLIGHT
TZOFFSETFROM:-0400
TZOFFSETTO:-0300
TZNAME:ADT
DTSTART:20240310T060000
END:DAYLIGHT
BEGIN:STANDARD
TZOFFSETFROM:-0300
TZOFFSETTO:-0400
TZNAME:AST
DTSTART:20241103T050000
END:STANDARD
BEGIN:DAYLIGHT
TZOFFSETFROM:-0400
TZOFFSETTO:-0300
TZNAME:ADT
DTSTART:20250309T060000
END:DAYLIGHT
BEGIN:STANDARD
TZOFFSETFROM:-0300
TZOFFSETTO:-0400
TZNAME:AST
DTSTART:20251102T050000
END:STANDARD
END:VTIMEZONE
BEGIN:VEVENT
DTSTART;TZID=America/Halifax:20240814T190000
DTEND;TZID=America/Halifax:20240814T210000
DTSTAMP:20260422T221848
CREATED:20240723T130832Z
LAST-MODIFIED:20240723T133523Z
UID:10000217-1723662000-1723669200@www.easthants.ca
SUMMARY:Municipal Election Candidate Information Session
DESCRIPTION:Are you interested in running for Municipal Council during the next election? \nJoin us for an information session with CAO Kim Ramsay and Warden Eleanor Roulston. \nTopics: \n\nWhat to expect as a Municipal Councillor\nWhy local government is important\nEligibility Criteria\nOpportunity to ask questions\n\nThe next municipal election is on October 19\, 2024. Learn more on our Election page. \n 
URL:https://www.easthants.ca/event/municipal-election-candidate-information-session-2/
LOCATION:Lloyd E. Matheson Centre\, Room 168\, 15 Commerce Court\, Elmsdale\, Nova Scotia\, B2S 3K5\, Canada
CATEGORIES:Community Event
END:VEVENT
END:VCALENDAR