BEGIN:VCALENDAR
VERSION:2.0
PRODID:-//Municipality of East Hants - ECPv6.15.20//NONSGML v1.0//EN
CALSCALE:GREGORIAN
METHOD:PUBLISH
X-ORIGINAL-URL:https://www.easthants.ca
X-WR-CALDESC:Events for Municipality of East Hants
REFRESH-INTERVAL;VALUE=DURATION:PT1H
X-Robots-Tag:noindex
X-PUBLISHED-TTL:PT1H
BEGIN:VTIMEZONE
TZID:America/Halifax
BEGIN:DAYLIGHT
TZOFFSETFROM:-0400
TZOFFSETTO:-0300
TZNAME:ADT
DTSTART:20230312T060000
END:DAYLIGHT
BEGIN:STANDARD
TZOFFSETFROM:-0300
TZOFFSETTO:-0400
TZNAME:AST
DTSTART:20231105T050000
END:STANDARD
BEGIN:DAYLIGHT
TZOFFSETFROM:-0400
TZOFFSETTO:-0300
TZNAME:ADT
DTSTART:20240310T060000
END:DAYLIGHT
BEGIN:STANDARD
TZOFFSETFROM:-0300
TZOFFSETTO:-0400
TZNAME:AST
DTSTART:20241103T050000
END:STANDARD
BEGIN:DAYLIGHT
TZOFFSETFROM:-0400
TZOFFSETTO:-0300
TZNAME:ADT
DTSTART:20250309T060000
END:DAYLIGHT
BEGIN:STANDARD
TZOFFSETFROM:-0300
TZOFFSETTO:-0400
TZNAME:AST
DTSTART:20251102T050000
END:STANDARD
END:VTIMEZONE
BEGIN:VEVENT
DTSTART;TZID=America/Halifax:20240709T190000
DTEND;TZID=America/Halifax:20240709T210000
DTSTAMP:20260423T002100
CREATED:20240409T141410Z
LAST-MODIFIED:20240409T151411Z
UID:10000156-1720551600-1720558800@www.easthants.ca
SUMMARY:Municipal Election Candidate Information Session
DESCRIPTION:Are you interested in running for Municipal Council during the next election? \nJoin us for an information session with CAO Kim Ramsay and Warden Eleanor Roulston. \nTopics: \n\nWhat to expect as a Municipal Councillor\nWhy local government is important\nEligibility Criteria\nOpportunity to ask questions\n\nThe next municipal election is on October 19\, 2024. \n 
URL:https://www.easthants.ca/event/municipal-election-candidate-information-session/
LOCATION:Lloyd E. Matheson Centre\, Room 168\, 15 Commerce Court\, Elmsdale\, Nova Scotia\, B2S 3K5\, Canada
CATEGORIES:Community Event
END:VEVENT
BEGIN:VEVENT
DTSTART;TZID=America/Halifax:20240721T080000
DTEND;TZID=America/Halifax:20240721T173000
DTSTAMP:20260423T002100
CREATED:20240719T185811Z
LAST-MODIFIED:20240719T190922Z
UID:10000216-1721548800-1721583000@www.easthants.ca
SUMMARY:Splash and Celebrate!
DESCRIPTION:Dive into fun at the newly re-opened East Hants Aquatic Centre on Sunday July 21! Enjoy FREE programming all day as well as a barbeque\, cake\, giveaways and more! \nSchedule:\n8:00 to 9:00 am – Quiet hour: sensory-friendly use of both pools\n9:30 to 10:30 am – Aqua Zumba (registration required)\n11:00 am to 2:00 pm – Open swim in both pools\n12:00 noon – Free BBQ and cake\n2:30 pm – 5:30 pm – Open swim in both pools \nStop into the Community Room anytime between 9:00am and 5:00pm and enter to win some fun giveaways! PLUS\, the Splash Pad will be open regular hours for all to enjoy. Remember to check out the on-site Playbox for more fun games and toys. \nNote: Aqua Zumba from 9:30-10:30 requires registration – free spaces now open for bookings. All other programming will be offered for free on a first-come\, first-served basis based on pool capacity limits. \nRSVP to our Facebook event to let us know you’re coming!
URL:https://www.easthants.ca/event/splash-and-celebrate/
LOCATION:East Hants Aquatic Centre\, 14 Commerce Court\, Elmsdale\, Nova Scotia\, B2S 3K5\, Canada
CATEGORIES:Community Event
END:VEVENT
END:VCALENDAR