BEGIN:VCALENDAR
VERSION:2.0
PRODID:-//Municipality of East Hants - ECPv6.15.20//NONSGML v1.0//EN
CALSCALE:GREGORIAN
METHOD:PUBLISH
X-ORIGINAL-URL:https://www.easthants.ca
X-WR-CALDESC:Events for Municipality of East Hants
REFRESH-INTERVAL;VALUE=DURATION:PT1H
X-Robots-Tag:noindex
X-PUBLISHED-TTL:PT1H
BEGIN:VTIMEZONE
TZID:America/Halifax
BEGIN:DAYLIGHT
TZOFFSETFROM:-0400
TZOFFSETTO:-0300
TZNAME:ADT
DTSTART:20230312T060000
END:DAYLIGHT
BEGIN:STANDARD
TZOFFSETFROM:-0300
TZOFFSETTO:-0400
TZNAME:AST
DTSTART:20231105T050000
END:STANDARD
BEGIN:DAYLIGHT
TZOFFSETFROM:-0400
TZOFFSETTO:-0300
TZNAME:ADT
DTSTART:20240310T060000
END:DAYLIGHT
BEGIN:STANDARD
TZOFFSETFROM:-0300
TZOFFSETTO:-0400
TZNAME:AST
DTSTART:20241103T050000
END:STANDARD
BEGIN:DAYLIGHT
TZOFFSETFROM:-0400
TZOFFSETTO:-0300
TZNAME:ADT
DTSTART:20250309T060000
END:DAYLIGHT
BEGIN:STANDARD
TZOFFSETFROM:-0300
TZOFFSETTO:-0400
TZNAME:AST
DTSTART:20251102T050000
END:STANDARD
END:VTIMEZONE
BEGIN:VEVENT
DTSTART;TZID=America/Halifax:20240602T140000
DTEND;TZID=America/Halifax:20240602T160000
DTSTAMP:20260423T151830
CREATED:20240425T180957Z
LAST-MODIFIED:20240528T115546Z
UID:10000202-1717336800-1717344000@www.easthants.ca
SUMMARY:2SLGBTQ Pride Event
DESCRIPTION:June is Pride month and what better way to celebrate than to get together and learn about 2SLGBTQ history in Nova Scotia and the world. \nTwo wonderful speakers will share their insight with us for this event: \n\nRebecca Rose (author of Before the Parade: A History of Halifax’s Gay\, Lesbian\, and Bisexual Communities 1972-1984)\nDr. Chris Frazer (Associate Professor of History at St. FX University).\n\nThere will be door prizes\, refreshments and rainbow donuts! \nRSVP:\n902-883-9274\nelmsdalecooperativeministry@gmail.com \nPride Event Poster\nFacebook Event 
URL:https://www.easthants.ca/event/2slgbtq-pride-event/
LOCATION:Riverview United Church Hall\, 760 Highway 2\, Elmsdale\, Nova Scotia\, B2S 1G3\, Canada
CATEGORIES:Community Event
END:VEVENT
BEGIN:VEVENT
DTSTART;TZID=America/Halifax:20240611T180000
DTEND;TZID=America/Halifax:20240611T200000
DTSTAMP:20260423T151830
CREATED:20240513T162558Z
LAST-MODIFIED:20240606T132502Z
UID:10000207-1718128800-1718136000@www.easthants.ca
SUMMARY:Indigenous Mural Art Launch
DESCRIPTION:Please join us to officially kick-off a meaningful project by local artist Quentin Syliboy. Funded through the Canada Arts Council\, Quentin will create a series of murals depicting Mi’kmaq stories to be displayed within the Municipality of East Hants. This partnership is intended to help foster reconciliation\, racial tolerance through education and to help promote and preserve indigenous art and culture. \n\nMeet with Quentin and learn more about his work and the meaning behind this project.\nElder Bernie Syliboy will recite an opening prayer and offer a smudging ceremonial cleansing practice.\nAfter welcoming remarks and opening prayer\, enjoy refreshments and watch Quentin as he works in live time on one of the pieces in the collection.\n\nAttendance is free. All are welcome. The event will take place in the lobby of the Lloyd E. Matheson Centre.
URL:https://www.easthants.ca/event/indigenous-mural-art-launch/
LOCATION:Lloyd E. Matheson Centre\, 15 Commerce Court\, Elmsdale\, Nova Scotia\, Canada
CATEGORIES:Community Event
END:VEVENT
BEGIN:VEVENT
DTSTART;TZID=America/Halifax:20240622T110000
DTEND;TZID=America/Halifax:20240622T170000
DTSTAMP:20260423T151830
CREATED:20240515T163313Z
LAST-MODIFIED:20240618T165846Z
UID:10000208-1719054000-1719075600@www.easthants.ca
SUMMARY:Welcome to the Jungle - Mount Uniacke Firefighter Parade
DESCRIPTION:Join the Mount Uniacke District Volunteer Fire Department for their annual parade! The parade begins from the Uniacke District school and ends at the Firehall. This years theme is Welcome to the Jungle! \n\nRain or shine\, we will be there!\nAfter the parade there will be a canteen\, cotton candy booth\, carnival rides and activities for everyone\nCost: 50 cents a ticket\n\nAnyone interested in walking in the parade or entering in a float can contact: parade@uniackefire.ca 
URL:https://www.easthants.ca/event/welcome-to-the-jungle-mount-uniacke-firefighter-parade/
LOCATION:Mount Uniacke Fire Hall\, 654 Highway 1\, Nova Scotia\, B0N 1Z0\, Canada
CATEGORIES:Community Event
END:VEVENT
BEGIN:VEVENT
DTSTART;TZID=America/Halifax:20240625T160000
DTEND;TZID=America/Halifax:20240625T190000
DTSTAMP:20260423T151830
CREATED:20240603T184805Z
LAST-MODIFIED:20240603T185052Z
UID:10000213-1719331200-1719342000@www.easthants.ca
SUMMARY:RCMP Open House - Rawdon Detachment
DESCRIPTION:Get to know your community detachment! \nEast Hants RCMP are hosting a community open house at the Rawdon RCMP detachment! Stop by for a free BBQ and say hello to our police service dog. \nEveryone welcome.
URL:https://www.easthants.ca/event/rcmp-open-house-rawdon-detachment/
LOCATION:Rawdon RCMP Detachment\, 3945 Nova Scotia Trunk 14\, Upper Rawdon\, NS\, B2S3K5\, Canada
CATEGORIES:Community Event
END:VEVENT
END:VCALENDAR