BEGIN:VCALENDAR
VERSION:2.0
PRODID:-//Municipality of East Hants - ECPv6.15.20//NONSGML v1.0//EN
CALSCALE:GREGORIAN
METHOD:PUBLISH
X-ORIGINAL-URL:https://www.easthants.ca
X-WR-CALDESC:Events for Municipality of East Hants
REFRESH-INTERVAL;VALUE=DURATION:PT1H
X-Robots-Tag:noindex
X-PUBLISHED-TTL:PT1H
BEGIN:VTIMEZONE
TZID:America/Halifax
BEGIN:DAYLIGHT
TZOFFSETFROM:-0400
TZOFFSETTO:-0300
TZNAME:ADT
DTSTART:20230312T060000
END:DAYLIGHT
BEGIN:STANDARD
TZOFFSETFROM:-0300
TZOFFSETTO:-0400
TZNAME:AST
DTSTART:20231105T050000
END:STANDARD
BEGIN:DAYLIGHT
TZOFFSETFROM:-0400
TZOFFSETTO:-0300
TZNAME:ADT
DTSTART:20240310T060000
END:DAYLIGHT
BEGIN:STANDARD
TZOFFSETFROM:-0300
TZOFFSETTO:-0400
TZNAME:AST
DTSTART:20241103T050000
END:STANDARD
BEGIN:DAYLIGHT
TZOFFSETFROM:-0400
TZOFFSETTO:-0300
TZNAME:ADT
DTSTART:20250309T060000
END:DAYLIGHT
BEGIN:STANDARD
TZOFFSETFROM:-0300
TZOFFSETTO:-0400
TZNAME:AST
DTSTART:20251102T050000
END:STANDARD
END:VTIMEZONE
BEGIN:VEVENT
DTSTART;TZID=America/Halifax:20240513T190000
DTEND;TZID=America/Halifax:20240513T210000
DTSTAMP:20260423T202729
CREATED:20240415T181856Z
LAST-MODIFIED:20240507T114101Z
UID:10000200-1715626800-1715634000@www.easthants.ca
SUMMARY:What's in Store for 2024
DESCRIPTION:Come join Warden Eleanor Roulston and Chief Administrative Officer Kim Ramsay for a presentation on the 2024-2025 budgets and business plan and learn what’s in store for our communities. \nEast Hants Council has approved an overall municipal operating budget of $47.0 million for the upcoming fiscal year. The 2024-2025 budget prioritizes essential services\, infrastructure and community development projects. \nPresentation to begin at 7 p.m. with an opportunity to answer questions after.
URL:https://www.easthants.ca/event/2024-2025-budget-presentation/
LOCATION:Lloyd E. Matheson Centre\, Room 168\, 15 Commerce Court\, Elmsdale\, Nova Scotia\, B2S 3K5\, Canada
CATEGORIES:Community Event
END:VEVENT
BEGIN:VEVENT
DTSTART;TZID=America/Halifax:20240515T183000
DTEND;TZID=America/Halifax:20240515T203000
DTSTAMP:20260423T202729
CREATED:20240411T142922Z
LAST-MODIFIED:20240411T143040Z
UID:10000166-1715797800-1715805000@www.easthants.ca
SUMMARY:Volunteer Networking Event
DESCRIPTION:Happening at the Riverview United Church Hall – 760 Highway #2\, Elmsdale \nJoin East Hants Parks\, Recreation and Culture staff and fellow East Hants volunteers for an evening of conversation\, connecting\, problem solving and much more! Refreshments provided. Register now using the form below. \n  \n\n	Notice: JavaScript is required for this content.
URL:https://www.easthants.ca/event/volunteer-networking-event-may-2024/
LOCATION:Riverview United Church Hall\, 760 Highway 2\, Elmsdale\, Nova Scotia\, B2S 1G3\, Canada
CATEGORIES:Community Event
END:VEVENT
BEGIN:VEVENT
DTSTART;TZID=America/Halifax:20240525T100000
DTEND;TZID=America/Halifax:20240525T130000
DTSTAMP:20260423T202729
CREATED:20240516T130757Z
LAST-MODIFIED:20240516T130757Z
UID:10000209-1716631200-1716642000@www.easthants.ca
SUMMARY:Accessible Fun at the East Hants Sportsplex
DESCRIPTION:Join the Municipality of East Hants to celebrate Open East Hants Day AND kick off Access Awareness Week (May 26-June 1). We’ll have fun activities for everyone! \nEnjoy free skating in Ice Pad B with skate aids and sledges try-outs and games and accessible-friendly crafting in the Todd Hunter and Braeden Bannister rooms. \nCorridor Community Options for Adults will also be onsite to share information about their programs! \nCome learn all about East Hants’ accessibility initiatives and celebrate inclusivity in our community!
URL:https://www.easthants.ca/event/accessible-fun-sportsplex/
LOCATION:East Hants Sportsplex\, 1076 Highway 2\, Lantz\, Nova Scotia\, B2S 1M8\, Canada
CATEGORIES:Community Event
END:VEVENT
END:VCALENDAR