BEGIN:VCALENDAR
VERSION:2.0
PRODID:-//Municipality of East Hants - ECPv6.15.20//NONSGML v1.0//EN
CALSCALE:GREGORIAN
METHOD:PUBLISH
X-WR-CALNAME:Municipality of East Hants
X-ORIGINAL-URL:https://www.easthants.ca
X-WR-CALDESC:Events for Municipality of East Hants
REFRESH-INTERVAL;VALUE=DURATION:PT1H
X-Robots-Tag:noindex
X-PUBLISHED-TTL:PT1H
BEGIN:VTIMEZONE
TZID:America/Halifax
BEGIN:DAYLIGHT
TZOFFSETFROM:-0400
TZOFFSETTO:-0300
TZNAME:ADT
DTSTART:20250309T060000
END:DAYLIGHT
BEGIN:STANDARD
TZOFFSETFROM:-0300
TZOFFSETTO:-0400
TZNAME:AST
DTSTART:20251102T050000
END:STANDARD
BEGIN:DAYLIGHT
TZOFFSETFROM:-0400
TZOFFSETTO:-0300
TZNAME:ADT
DTSTART:20260308T060000
END:DAYLIGHT
BEGIN:STANDARD
TZOFFSETFROM:-0300
TZOFFSETTO:-0400
TZNAME:AST
DTSTART:20261101T050000
END:STANDARD
BEGIN:DAYLIGHT
TZOFFSETFROM:-0400
TZOFFSETTO:-0300
TZNAME:ADT
DTSTART:20270314T060000
END:DAYLIGHT
BEGIN:STANDARD
TZOFFSETFROM:-0300
TZOFFSETTO:-0400
TZNAME:AST
DTSTART:20271107T050000
END:STANDARD
END:VTIMEZONE
BEGIN:VEVENT
DTSTART;TZID=America/Halifax:20260506T100000
DTEND;TZID=America/Halifax:20260506T120000
DTSTAMP:20260421T190240
CREATED:20260420T163116Z
LAST-MODIFIED:20260421T181342Z
UID:10000732-1778061600-1778068800@www.easthants.ca
SUMMARY:Tourism in East Hants – What’s Next?
DESCRIPTION:Tourism in East Hants – What’s Next? \nAre you part of the tourism or hospitality industry\, whether as a business owner\, operator\, or community supporter? \nThe Municipality of East Hants invites you to join us for an engaging and collaborative session focused on the future of tourism in our communities. \nThis is an opportunity to: \n\nShare your insights and help update the East Hants Tourism Strategy\nConnect with fellow tourism and hospitality stakeholders\nExplore opportunities to strengthen and grow our local visitor economy\n\nWhether you run a business\, support visitors\, or are passionate about tourism in East Hants\, our team wants to hear from you. \nDate and time: Wednesday\, May 6 – 10:00am to 12:00pm\nLocation: Noel Fire Hall (1639 Burntcoat Road\, Noel)\nCost: Free (registration required)  \nRefreshments will be provided. \nReserve your spot today by completing the registration form here. \nFor questions\, please contact business@easthants.ca or call 902-883-4355.
URL:https://www.easthants.ca/event/tourism-in-east-hants-whats-next/
LOCATION:Noel Fire Hall\, 1639 Burntcoat Road\, Noel\, Canada
CATEGORIES:Business Event,Community Event
ATTACH;FMTTYPE=image/jpeg:https://www.easthants.ca/wp-content/uploads/2026/04/Dawson-Dowell-2023-5-scaled-e1776795214805.jpg
END:VEVENT
BEGIN:VEVENT
DTSTART;TZID=America/Halifax:20260506T190000
DTEND;TZID=America/Halifax:20260506T210000
DTSTAMP:20260421T190240
CREATED:20260225T150943Z
LAST-MODIFIED:20260225T151904Z
UID:10000711-1778094000-1778101200@www.easthants.ca
SUMMARY:Community Plan Review Visioning Meeting
DESCRIPTION:Join us for a Community Plan Visioning Meeting. \nCommunity visioning empowers community members to imagine and shape the shared future of their community. After the visioning process is complete\, the community engagement feedback will be reviewed\, and a vision statement will be created. \n\nPlanning staff will take the community’s vision and use it as guiding principles in creating land use planning policies and regulations that will guide growth into the future.
URL:https://www.easthants.ca/event/community-plan-review-visioning-meeting/
LOCATION:Rawdon Fire Hall\, 3869 Highway 14\, Nova Scotia\, B0N 2N0\, Canada
CATEGORIES:Community Event,Council
END:VEVENT
END:VCALENDAR